BEGIN:VCALENDAR
VERSION:2.0
PRODID:-//Tukios.com/
BEGIN:VEVENT
UID:5b55a292-9119-4727-8a6d-f0ef8e5b62f4@www.wrcfuneral.com
DTSTAMP:20260421T205113Z
DTSTART:20260424T190000Z
DTEND:20260424T200000Z
SUMMARY:Celebration of Life
DESCRIPTION:
URL:https://www.wrcfuneral.com/obituaries/michael-timlin
LOCATION:Cheyenne Memorial Gardens 4701 Christensen Rd  Cheyenne WY 82009
GEO:41.1610952;-104.7116276
END:VEVENT
END:VCALENDAR