BEGIN:VCALENDAR
VERSION:2.0
PRODID:-//Tukios.com/
BEGIN:VEVENT
UID:4e9f0755-4150-4896-be73-c819f4f7f753@www.wrcfuneral.com
DTSTAMP:20260425T184643Z
DTSTART:20260501T190000Z
DTEND:20260501T200000Z
SUMMARY:Memorial Service
DESCRIPTION:
URL:https://www.wrcfuneral.com/obituaries/kenneth-maier
LOCATION: 1900 East 19th Street  Cheyenne WY 82001
GEO:41.144026;-104.7945893
END:VEVENT
END:VCALENDAR