BEGIN:VCALENDAR
VERSION:2.0
PRODID:-//Tukios.com/
BEGIN:VEVENT
UID:3a69e1f8-a000-4006-88ca-5ea493ce6e30@www.wrcfuneral.com
DTSTAMP:20260420T222648Z
DTSTART:20260425T160000Z
DTEND:20260425T170000Z
SUMMARY:Memorial Service
DESCRIPTION:
URL:https://www.wrcfuneral.com/obituaries/beverly-holmes
LOCATION:Wiederspahn-Radomsky Chapel of the Chimes 1900 East 19th Street  
	Cheyenne WY 82001
GEO:41.144026;-104.7945893
END:VEVENT
END:VCALENDAR