BEGIN:VCALENDAR
VERSION:2.0
PRODID:-//Tukios.com/
BEGIN:VEVENT
UID:a911967f-08cd-4d6e-9aea-f4bb56b9839a@www.wrcfuneral.com
DTSTAMP:20260422T203013Z
DTSTART:20260423T200000Z
DTEND:20260423T210000Z
SUMMARY:Burial
DESCRIPTION:
URL:https://www.wrcfuneral.com/obituaries/betty-horn
LOCATION: 4701 Christensen Rd  Cheyenne WY 82009
GEO:41.1610952;-104.7116276
END:VEVENT
END:VCALENDAR