BEGIN:VCALENDAR
VERSION:2.0
PRODID:-//Tukios.com/
BEGIN:VEVENT
UID:bd58cd8b-bf1c-437c-88f4-d6dc64aa26b0@www.wrcfuneral.com
DTSTAMP:20260422T203351Z
DTSTART:20260423T190000Z
DTEND:20260423T200000Z
SUMMARY:Funeral Service
DESCRIPTION:
URL:https://www.wrcfuneral.com/obituaries/betty-horn
LOCATION:Our Savior Lutheran Church 5101 Dell Range Boulevard  Cheyenne 
	WY 82009
GEO:41.1595257;-104.7485015
END:VEVENT
END:VCALENDAR